BEGIN:VCALENDAR
VERSION:2.0
PRODID:-//Karin Ritzer Yoga - ECPv4.8.2//NONSGML v1.0//EN
CALSCALE:GREGORIAN
METHOD:PUBLISH
X-WR-CALNAME:Karin Ritzer Yoga
X-ORIGINAL-URL:https://www.karin-ritzer-yoga.at
X-WR-CALDESC:Veranstaltungen im Karin Ritzer Yoga
BEGIN:VEVENT
DTSTART;TZID=Europe/Berlin:20231120T190000
DTEND;TZID=Europe/Berlin:20231120T203000
DTSTAMP:20260421T114045
CREATED:20230612T091500Z
LAST-MODIFIED:20230612T091500Z
UID:22628-1700506800-1700512200@www.karin-ritzer-yoga.at
SUMMARY:Kundaliniyoga Ebbs VS\, 19.00 - 20.30
DESCRIPTION:
URL:https://www.karin-ritzer-yoga.at/kurstermin/kundaliniyoga-ebbs-vs-19-00-20-30-2/2023-11-20/
END:VEVENT
END:VCALENDAR