BEGIN:VCALENDAR
VERSION:2.0
PRODID:-//Karin Ritzer Yoga - ECPv4.8.2//NONSGML v1.0//EN
CALSCALE:GREGORIAN
METHOD:PUBLISH
X-WR-CALNAME:Karin Ritzer Yoga
X-ORIGINAL-URL:https://www.karin-ritzer-yoga.at
X-WR-CALDESC:Veranstaltungen im Karin Ritzer Yoga
BEGIN:VEVENT
DTSTART;TZID=Europe/Berlin:20260629T190000
DTEND;TZID=Europe/Berlin:20260629T203000
DTSTAMP:20260419T170038
CREATED:20251229T085023Z
LAST-MODIFIED:20251229T085023Z
UID:23898-1782759600-1782765000@www.karin-ritzer-yoga.at
SUMMARY:Kundaliniyoga\, Ebbs VS\, Wildbichlerstrasse 32\, 19.00 - 20.30 Uhr
DESCRIPTION:
URL:https://www.karin-ritzer-yoga.at/kurstermin/kundaliniyoga-ebbs-vs-wildbichlerstrasse-32-19-00-20-30-uhr/2026-06-29/
END:VEVENT
END:VCALENDAR