BEGIN:VCALENDAR
VERSION:2.0
PRODID:-//Karin Ritzer Yoga - ECPv4.8.2//NONSGML v1.0//EN
CALSCALE:GREGORIAN
METHOD:PUBLISH
X-WR-CALNAME:Karin Ritzer Yoga
X-ORIGINAL-URL:https://www.karin-ritzer-yoga.at
X-WR-CALDESC:Veranstaltungen im Karin Ritzer Yoga
BEGIN:VEVENT
DTSTART;TZID=Europe/Berlin:20240319T100000
DTEND;TZID=Europe/Berlin:20240319T111500
DTSTAMP:20260423T085923
CREATED:20240108T094948Z
LAST-MODIFIED:20240108T094948Z
UID:22824-1710842400-1710846900@www.karin-ritzer-yoga.at
SUMMARY:Kundaliniyoga Kirchbichl\, Studio Ich für Mich 10.00 - 11.15\, Lofererstrasse 3
DESCRIPTION:
URL:https://www.karin-ritzer-yoga.at/kurstermin/kundaliniyoga-kirchbichl-studio-ich-fuer-mich-10-00-11-15-lofererstrasse-3/2024-03-19/
END:VEVENT
END:VCALENDAR