BEGIN:VCALENDAR
VERSION:2.0
PRODID:-//Karin Ritzer Yoga - ECPv4.8.2//NONSGML v1.0//EN
CALSCALE:GREGORIAN
METHOD:PUBLISH
X-WR-CALNAME:Karin Ritzer Yoga
X-ORIGINAL-URL:https://www.karin-ritzer-yoga.at
X-WR-CALDESC:Veranstaltungen im Karin Ritzer Yoga
BEGIN:VEVENT
DTSTART;TZID=Europe/Berlin:20240516T191000
DTEND;TZID=Europe/Berlin:20240516T203000
DTSTAMP:20260423T104311
CREATED:20240131T103444Z
LAST-MODIFIED:20240131T103444Z
UID:22944-1715886600-1715891400@www.karin-ritzer-yoga.at
SUMMARY:Kundaliniyoga Kufstein\, Kufsteiner Studio 19.10 - 20.40
DESCRIPTION:
URL:https://www.karin-ritzer-yoga.at/kurstermin/kundaliniyoga-kufstein-kufsteiner-studio-19-10-20-40-3/2024-05-16/
END:VEVENT
END:VCALENDAR