BEGIN:VCALENDAR
VERSION:2.0
PRODID:-//Karin Ritzer Yoga - ECPv4.8.2//NONSGML v1.0//EN
CALSCALE:GREGORIAN
METHOD:PUBLISH
X-WR-CALNAME:Karin Ritzer Yoga
X-ORIGINAL-URL:https://www.karin-ritzer-yoga.at
X-WR-CALDESC:Veranstaltungen im Karin Ritzer Yoga
BEGIN:VEVENT
DTSTART;TZID=Europe/Berlin:20220125T190000
DTEND;TZID=Europe/Berlin:20220125T203000
DTSTAMP:20260424T122247
CREATED:20220104T182924Z
LAST-MODIFIED:20220104T182924Z
UID:21471-1643137200-1643142600@www.karin-ritzer-yoga.at
SUMMARY:Kundaliniyoga Kufstein\, Logistikpark Untere Sparchen 16\, 19.00 - 20.30
DESCRIPTION:
URL:https://www.karin-ritzer-yoga.at/kurstermin/kundaliniyoga-kufstein-logistikpark-untere-sparchen-16-19-00-20-30/2022-01-25/
END:VEVENT
END:VCALENDAR