BEGIN:VCALENDAR
VERSION:2.0
PRODID:-//Karin Ritzer Yoga - ECPv4.8.2//NONSGML v1.0//EN
CALSCALE:GREGORIAN
METHOD:PUBLISH
X-WR-CALNAME:Karin Ritzer Yoga
X-ORIGINAL-URL:https://www.karin-ritzer-yoga.at
X-WR-CALDESC:Veranstaltungen im Karin Ritzer Yoga
BEGIN:VEVENT
DTSTART;TZID=Europe/Berlin:20250814T190000
DTEND;TZID=Europe/Berlin:20250814T203000
DTSTAMP:20260421T161420
CREATED:20250716T091914Z
LAST-MODIFIED:20250716T091932Z
UID:23660-1755198000-1755203400@www.karin-ritzer-yoga.at
SUMMARY:Kundaliniyoga\, Kufsteiner Studio\, Untere Sparchen 16\, von 19.00 - 20.30 Uhr
DESCRIPTION:
URL:https://www.karin-ritzer-yoga.at/kurstermin/kundaliniyoga-kufsteiner-studio-untere-sparchen-16-von-19-00-20-30-uhr/2025-08-14/
END:VEVENT
END:VCALENDAR