BEGIN:VCALENDAR
VERSION:2.0
PRODID:-//Karin Ritzer Yoga - ECPv4.8.2//NONSGML v1.0//EN
CALSCALE:GREGORIAN
METHOD:PUBLISH
X-WR-CALNAME:Karin Ritzer Yoga
X-ORIGINAL-URL:https://www.karin-ritzer-yoga.at
X-WR-CALDESC:Veranstaltungen im Karin Ritzer Yoga
BEGIN:VEVENT
DTSTART;TZID=Europe/Berlin:20240118T191000
DTEND;TZID=Europe/Berlin:20240118T204000
DTSTAMP:20260421T084005
CREATED:20231106T095226Z
LAST-MODIFIED:20231106T095226Z
UID:22741-1705605000-1705610400@www.karin-ritzer-yoga.at
SUMMARY:Kundaliniyoga Kufsteiner Studio\, Unterer Sparchen 16\, 19.10 - 20.40
DESCRIPTION:
URL:https://www.karin-ritzer-yoga.at/kurstermin/kundaliniyoga-kufsteiner-studio-unterer-sparchen-16-19-10-20-40/2024-01-18/
END:VEVENT
END:VCALENDAR