BEGIN:VCALENDAR
VERSION:2.0
PRODID:-//Karin Ritzer Yoga - ECPv4.8.2//NONSGML v1.0//EN
CALSCALE:GREGORIAN
METHOD:PUBLISH
X-WR-CALNAME:Karin Ritzer Yoga
X-ORIGINAL-URL:https://www.karin-ritzer-yoga.at
X-WR-CALDESC:Veranstaltungen im Karin Ritzer Yoga
BEGIN:VEVENT
DTSTART;TZID=Europe/Berlin:20260203T190000
DTEND;TZID=Europe/Berlin:20260203T203000
DTSTAMP:20260419T163726
CREATED:20251020T095236Z
LAST-MODIFIED:20251020T095236Z
UID:23741-1770145200-1770150600@www.karin-ritzer-yoga.at
SUMMARY:Kundaliniyoga meets Yin Yoga\, Studio Ich für Mich\, Lofererstrasse 3\, 19.00 - 20.30 Uhr
DESCRIPTION:
URL:https://www.karin-ritzer-yoga.at/kurstermin/kundaliniyoga-meets-yin-yoga-studio-ich-fuer-mich-lofererstrasse-3-19-00-20-30-uhr/2026-02-03/
END:VEVENT
END:VCALENDAR