BEGIN:VCALENDAR
VERSION:2.0
PRODID:-//Karin Ritzer Yoga - ECPv4.8.2//NONSGML v1.0//EN
CALSCALE:GREGORIAN
METHOD:PUBLISH
X-WR-CALNAME:Karin Ritzer Yoga
X-ORIGINAL-URL:https://www.karin-ritzer-yoga.at
X-WR-CALDESC:Veranstaltungen im Karin Ritzer Yoga
BEGIN:VEVENT
DTSTART;TZID=Europe/Berlin:20260417T173000
DTEND;TZID=Europe/Berlin:20260417T190000
DTSTAMP:20260421T130000
CREATED:20251229T085531Z
LAST-MODIFIED:20251229T085531Z
UID:23910-1776447000-1776452400@www.karin-ritzer-yoga.at
SUMMARY:Kundaliniyoga\, Studio Ich für Mich\, Kirchbichl\, Lofererstrasse 3\, 17.30 - 19.00 Uhr
DESCRIPTION:
URL:https://www.karin-ritzer-yoga.at/kurstermin/kundaliniyoga-studio-ich-fuer-mich-kirchbichl-lofererstrasse-3-17-30-19-00-uhr/2026-04-17/
END:VEVENT
END:VCALENDAR