BEGIN:VCALENDAR
VERSION:2.0
PRODID:-//Karin Ritzer Yoga - ECPv4.8.2//NONSGML v1.0//EN
CALSCALE:GREGORIAN
METHOD:PUBLISH
X-WR-CALNAME:Karin Ritzer Yoga
X-ORIGINAL-URL:https://www.karin-ritzer-yoga.at
X-WR-CALDESC:Veranstaltungen im Karin Ritzer Yoga
BEGIN:VEVENT
DTSTART;TZID=Europe/Berlin:20260309T190000
DTEND;TZID=Europe/Berlin:20260309T203000
DTSTAMP:20260421T100626
CREATED:20251020T095107Z
LAST-MODIFIED:20251020T095107Z
UID:23734-1773082800-1773088200@www.karin-ritzer-yoga.at
SUMMARY:Kundaliniyoga\, VS Ebbs\, 19.00 - 20.30 Uhr
DESCRIPTION:
URL:https://www.karin-ritzer-yoga.at/kurstermin/kundaliniyoga-vs-ebbs-19-00-20-30-uhr-2/2026-03-09/
END:VEVENT
END:VCALENDAR