BEGIN:VCALENDAR
VERSION:2.0
PRODID:-//Karin Ritzer Yoga - ECPv4.8.2//NONSGML v1.0//EN
CALSCALE:GREGORIAN
METHOD:PUBLISH
X-WR-CALNAME:Karin Ritzer Yoga
X-ORIGINAL-URL:https://www.karin-ritzer-yoga.at
X-WR-CALDESC:Veranstaltungen im Karin Ritzer Yoga
BEGIN:VEVENT
DTSTART;TZID=Europe/Berlin:20240524T173000
DTEND;TZID=Europe/Berlin:20240524T190000
DTSTAMP:20260423T091537
CREATED:20240131T103802Z
LAST-MODIFIED:20240131T103802Z
UID:22964-1716571800-1716577200@www.karin-ritzer-yoga.at
SUMMARY:Kundaliniyoga Wörgl\, Studio Ich für Mich 17.30 - 19.00
DESCRIPTION:
URL:https://www.karin-ritzer-yoga.at/kurstermin/kundaliniyoga-woergl-studio-ich-fuer-mich-17-30-19-00/2024-05-24/
END:VEVENT
END:VCALENDAR