BEGIN:VCALENDAR
VERSION:2.0
PRODID:-//Karin Ritzer Yoga - ECPv4.8.2//NONSGML v1.0//EN
CALSCALE:GREGORIAN
METHOD:PUBLISH
X-WR-CALNAME:Karin Ritzer Yoga
X-ORIGINAL-URL:https://www.karin-ritzer-yoga.at
X-WR-CALDESC:Veranstaltungen im Karin Ritzer Yoga
BEGIN:VEVENT
DTSTART;TZID=Europe/Berlin:20200211T100000
DTEND;TZID=Europe/Berlin:20200211T111500
DTSTAMP:20260423T031625
CREATED:20200211T153318Z
LAST-MODIFIED:20200211T153318Z
UID:20115-1581415200-1581419700@www.karin-ritzer-yoga.at
SUMMARY:Rückbildungsyoga Ebbs im alten Kindergarten\, 10.00 - 11.15
DESCRIPTION:
URL:https://www.karin-ritzer-yoga.at/kurstermin/rueckbildungsyoga-ebbs-im-alten-kindergarten-10-00-11-15/2020-02-11/
END:VEVENT
END:VCALENDAR