BEGIN:VCALENDAR
VERSION:2.0
PRODID:-//Karin Ritzer Yoga - ECPv4.8.2//NONSGML v1.0//EN
CALSCALE:GREGORIAN
METHOD:PUBLISH
X-WR-CALNAME:Karin Ritzer Yoga
X-ORIGINAL-URL:https://www.karin-ritzer-yoga.at
X-WR-CALDESC:Veranstaltungen im Karin Ritzer Yoga
BEGIN:VEVENT
DTSTART;TZID=Europe/Berlin:20231109T100000
DTEND;TZID=Europe/Berlin:20231109T110000
DTSTAMP:20260421T132926
CREATED:20230612T091222Z
LAST-MODIFIED:20230612T091222Z
UID:22613-1699524000-1699527600@www.karin-ritzer-yoga.at
SUMMARY:Rückbildungsyoga\, EKIZ Ebbs\, Kaiserbergstrasse 7a\, 10.00 - 11.00
DESCRIPTION:
URL:https://www.karin-ritzer-yoga.at/kurstermin/rueckbildungsyoga-ekiz-ebbs-kaiserbergstrasse-7a-10-00-11-00-6/2023-11-09/
END:VEVENT
END:VCALENDAR