BEGIN:VCALENDAR
VERSION:2.0
PRODID:-//Karin Ritzer Yoga - ECPv4.8.2//NONSGML v1.0//EN
CALSCALE:GREGORIAN
METHOD:PUBLISH
X-WR-CALNAME:Karin Ritzer Yoga
X-ORIGINAL-URL:https://www.karin-ritzer-yoga.at
X-WR-CALDESC:Veranstaltungen im Karin Ritzer Yoga
BEGIN:VEVENT
DTSTART;TZID=Europe/Berlin:20231207T100000
DTEND;TZID=Europe/Berlin:20231207T110000
DTSTAMP:20260423T105029
CREATED:20230612T091222Z
LAST-MODIFIED:20230612T091222Z
UID:22618-1701943200-1701946800@www.karin-ritzer-yoga.at
SUMMARY:Rückbildungsyoga\, EKIZ Ebbs\, Kaiserbergstrasse 7a\, 10.00 - 11.00
DESCRIPTION:
URL:https://www.karin-ritzer-yoga.at/kurstermin/rueckbildungsyoga-ekiz-ebbs-kaiserbergstrasse-7a-10-00-11-00-6/2023-12-07/
END:VEVENT
END:VCALENDAR