BEGIN:VCALENDAR
VERSION:2.0
PRODID:-//Karin Ritzer Yoga - ECPv4.8.2//NONSGML v1.0//EN
CALSCALE:GREGORIAN
METHOD:PUBLISH
X-WR-CALNAME:Karin Ritzer Yoga
X-ORIGINAL-URL:https://www.karin-ritzer-yoga.at
X-WR-CALDESC:Veranstaltungen im Karin Ritzer Yoga
BEGIN:VEVENT
DTSTART;TZID=Europe/Berlin:20240130T100000
DTEND;TZID=Europe/Berlin:20240130T110000
DTSTAMP:20260419T153049
CREATED:20231106T094923Z
LAST-MODIFIED:20240129T093733Z
UID:22729-1706608800-1706612400@www.karin-ritzer-yoga.at
SUMMARY:Rückbildungsyoga\, Wörgl\, Studio Ich für Mich
DESCRIPTION:
URL:https://www.karin-ritzer-yoga.at/kurstermin/rueckbildungsyoga-kirchbichl-woergl-studio-ich-fuer-mich-lofererstrasse-3/2024-01-30/
END:VEVENT
END:VCALENDAR