BEGIN:VCALENDAR
VERSION:2.0
PRODID:-//Karin Ritzer Yoga - ECPv4.8.2//NONSGML v1.0//EN
CALSCALE:GREGORIAN
METHOD:PUBLISH
X-WR-CALNAME:Karin Ritzer Yoga
X-ORIGINAL-URL:https://www.karin-ritzer-yoga.at
X-WR-CALDESC:Veranstaltungen im Karin Ritzer Yoga
BEGIN:VEVENT
DTSTART;TZID=Europe/Berlin:20260706T190000
DTEND;TZID=Europe/Berlin:20260706T201500
DTSTAMP:20260423T091020
CREATED:20260203T103859Z
LAST-MODIFIED:20260203T104409Z
UID:24008-1783364400-1783368900@www.karin-ritzer-yoga.at
SUMMARY:Vitalwalk - BreathWalk®\, Ebbs 19.00 - 20.15 Uhr
DESCRIPTION:
URL:https://www.karin-ritzer-yoga.at/kurstermin/vitalwalk-breathwalk-ebbs-19-00-20-15-uhr/2026-07-06/
END:VEVENT
END:VCALENDAR