BEGIN:VCALENDAR
VERSION:2.0
PRODID:-//Karin Ritzer Yoga - ECPv4.8.2//NONSGML v1.0//EN
CALSCALE:GREGORIAN
METHOD:PUBLISH
X-WR-CALNAME:Karin Ritzer Yoga
X-ORIGINAL-URL:https://www.karin-ritzer-yoga.at
X-WR-CALDESC:Veranstaltungen im Karin Ritzer Yoga
BEGIN:VEVENT
DTSTART;TZID=Europe/Berlin:20260804T190000
DTEND;TZID=Europe/Berlin:20260804T201500
DTSTAMP:20260421T100151
CREATED:20260203T104046Z
LAST-MODIFIED:20260322T094211Z
UID:24018-1785870000-1785874500@www.karin-ritzer-yoga.at
SUMMARY:Vitalwalk - BreathWalk®\, Kirchbichl von 19.00 - 20.15
DESCRIPTION:
URL:https://www.karin-ritzer-yoga.at/kurstermin/vitalwalk-breathwalk-kirchbichl-von-19-00-20-15-2026-07-21/2026-08-04/
END:VEVENT
END:VCALENDAR