BEGIN:VCALENDAR
VERSION:2.0
PRODID:-//Karin Ritzer Yoga - ECPv4.8.2//NONSGML v1.0//EN
CALSCALE:GREGORIAN
METHOD:PUBLISH
X-WR-CALNAME:Karin Ritzer Yoga
X-ORIGINAL-URL:https://www.karin-ritzer-yoga.at
X-WR-CALDESC:Veranstaltungen im Karin Ritzer Yoga
BEGIN:VEVENT
DTSTART;TZID=Europe/Berlin:20231204T171500
DTEND;TZID=Europe/Berlin:20231204T183000
DTSTAMP:20260421T110201
CREATED:20231120T091433Z
LAST-MODIFIED:20231120T091433Z
UID:22796-1701710100-1701714600@www.karin-ritzer-yoga.at
SUMMARY:Yoga in der Schwangerschaft Ebbs\, EKIZ Ebbs\, Kaiserbergstrasse 7a\, 17.15 - 18.30
DESCRIPTION:
URL:https://www.karin-ritzer-yoga.at/kurstermin/yoga-in-der-schwangerschaft-ebbs-ekiz-ebbs-kaiserbergstrasse-7a-17-15-18-30/2023-12-04/
END:VEVENT
END:VCALENDAR