BEGIN:VCALENDAR
VERSION:2.0
PRODID:-//Karin Ritzer Yoga - ECPv4.8.2//NONSGML v1.0//EN
CALSCALE:GREGORIAN
METHOD:PUBLISH
X-WR-CALNAME:Karin Ritzer Yoga
X-ORIGINAL-URL:https://www.karin-ritzer-yoga.at
X-WR-CALDESC:Veranstaltungen im Karin Ritzer Yoga
BEGIN:VEVENT
DTSTART;TZID=Europe/Berlin:20231009T171500
DTEND;TZID=Europe/Berlin:20231009T183000
DTSTAMP:20260421T132804
CREATED:20230612T090340Z
LAST-MODIFIED:20230612T092950Z
UID:22575-1696871700-1696876200@www.karin-ritzer-yoga.at
SUMMARY:Yoga in der Schwangerschaft\, EKIZ Ebbs\, Kaiserbergstrasse 7a\, 17.15 - 18.30
DESCRIPTION:
URL:https://www.karin-ritzer-yoga.at/kurstermin/yoga-in-der-schwangerschaft-ekiz-ebbs-17-15-18-30/2023-10-09/
END:VEVENT
END:VCALENDAR