BEGIN:VCALENDAR
VERSION:2.0
PRODID:-//Karin Ritzer Yoga - ECPv4.8.2//NONSGML v1.0//EN
CALSCALE:GREGORIAN
METHOD:PUBLISH
X-WR-CALNAME:Karin Ritzer Yoga
X-ORIGINAL-URL:https://www.karin-ritzer-yoga.at
X-WR-CALDESC:Veranstaltungen im Karin Ritzer Yoga
BEGIN:VEVENT
DTSTART;TZID=Europe/Berlin:20260623T173000
DTEND;TZID=Europe/Berlin:20260623T184500
DTSTAMP:20260419T212235
CREATED:20251229T095103Z
LAST-MODIFIED:20251229T095103Z
UID:23978-1782235800-1782240300@www.karin-ritzer-yoga.at
SUMMARY:Yoga in der Schwangerschaft\, Kirchbichl\, Studio Ich für Mich\, Lofererstrasse 3\, 17.30 - 18.45 Uhr
DESCRIPTION:
URL:https://www.karin-ritzer-yoga.at/kurstermin/yoga-in-der-schwangerschaft-kirchbichl-studio-ich-fuer-mich-lofererstrasse-3-17-30-18-45-uhr/2026-06-23/
END:VEVENT
END:VCALENDAR