BEGIN:VCALENDAR
VERSION:2.0
PRODID:-//Karin Ritzer Yoga - ECPv4.8.2//NONSGML v1.0//EN
CALSCALE:GREGORIAN
METHOD:PUBLISH
X-WR-CALNAME:Karin Ritzer Yoga
X-ORIGINAL-URL:https://www.karin-ritzer-yoga.at
X-WR-CALDESC:Veranstaltungen im Karin Ritzer Yoga
BEGIN:VEVENT
DTSTART;TZID=Europe/Berlin:20191212T163000
DTEND;TZID=Europe/Berlin:20191212T200000
DTSTAMP:20260425T114757
CREATED:20191114T161658Z
LAST-MODIFIED:20191114T161658Z
UID:19942-1576168200-1576180800@www.karin-ritzer-yoga.at
SUMMARY:Yoga in der Schwangerschaft\, Kufstein Schubi Du Gilmstr. 11\, 18.30 - 20.00
DESCRIPTION:
URL:https://www.karin-ritzer-yoga.at/kurstermin/yoga-in-der-schwangerschaft-kufstein-schubi-du-gilmstr-11-18-30-20-00-2/2019-12-12/
END:VEVENT
END:VCALENDAR