BEGIN:VCALENDAR
VERSION:2.0
PRODID:-//Karin Ritzer Yoga - ECPv4.8.2//NONSGML v1.0//EN
CALSCALE:GREGORIAN
METHOD:PUBLISH
X-WR-CALNAME:Karin Ritzer Yoga
X-ORIGINAL-URL:https://www.karin-ritzer-yoga.at
X-WR-CALDESC:Veranstaltungen im Karin Ritzer Yoga
BEGIN:VEVENT
DTSTART;TZID=Europe/Berlin:20200109T183000
DTEND;TZID=Europe/Berlin:20200109T200000
DTSTAMP:20260423T093451
CREATED:20191120T063804Z
LAST-MODIFIED:20191120T063804Z
UID:19957-1578594600-1578600000@www.karin-ritzer-yoga.at
SUMMARY:Yoga in der Schwangerschaft\, Kufstein\, Schubi Du\, gilmstrasse 11\, 18.30 - 20.00
DESCRIPTION:
URL:https://www.karin-ritzer-yoga.at/kurstermin/yoga-in-der-schwangerschaft-kufstein-schubi-du-gilmstrasse-11-18-30-20-00-3/2020-01-09/
END:VEVENT
END:VCALENDAR