BEGIN:VCALENDAR
VERSION:2.0
PRODID:-//Karin Ritzer Yoga - ECPv4.8.2//NONSGML v1.0//EN
CALSCALE:GREGORIAN
METHOD:PUBLISH
X-WR-CALNAME:Karin Ritzer Yoga
X-ORIGINAL-URL:https://www.karin-ritzer-yoga.at
X-WR-CALDESC:Veranstaltungen im Karin Ritzer Yoga
BEGIN:VEVENT
DTSTART;TZID=Europe/Berlin:20240111T174500
DTEND;TZID=Europe/Berlin:20240111T190000
DTSTAMP:20260421T084222
CREATED:20231106T094604Z
LAST-MODIFIED:20240129T093102Z
UID:22711-1704995100-1704999600@www.karin-ritzer-yoga.at
SUMMARY:Yoga in der Schwangerschaft\, EKIZ Kufstein\, Kufsteiner Studio 17.45 - 19.00
DESCRIPTION:
URL:https://www.karin-ritzer-yoga.at/kurstermin/yoga-in-der-schwangerschaft-kufsteiner-studio-untere-sparchen-16-17-45-19-00/2024-01-11/
END:VEVENT
END:VCALENDAR