BEGIN:VCALENDAR
VERSION:2.0
PRODID:-//Karin Ritzer Yoga - ECPv4.8.2//NONSGML v1.0//EN
CALSCALE:GREGORIAN
METHOD:PUBLISH
X-WR-CALNAME:Karin Ritzer Yoga
X-ORIGINAL-URL:https://www.karin-ritzer-yoga.at
X-WR-CALDESC:Veranstaltungen im Karin Ritzer Yoga
BEGIN:VEVENT
DTSTART;TZID=Europe/Berlin:20230503T174500
DTEND;TZID=Europe/Berlin:20230503T190000
DTSTAMP:20260423T091326
CREATED:20230110T091416Z
LAST-MODIFIED:20230110T091416Z
UID:22305-1683135900-1683140400@www.karin-ritzer-yoga.at
SUMMARY:Yoga in der Schwangerschaft Wörgl\, 17.45 - 19.00
DESCRIPTION:
URL:https://www.karin-ritzer-yoga.at/kurstermin/yoga-in-der-schwangerschaft-woergl-17-45-19-00-3/2023-05-03/
END:VEVENT
END:VCALENDAR