BEGIN:VCALENDAR
VERSION:2.0
PRODID:-//Karin Ritzer Yoga - ECPv4.8.2//NONSGML v1.0//EN
CALSCALE:GREGORIAN
METHOD:PUBLISH
X-WR-CALNAME:Karin Ritzer Yoga
X-ORIGINAL-URL:https://www.karin-ritzer-yoga.at
X-WR-CALDESC:Veranstaltungen im Karin Ritzer Yoga
BEGIN:VEVENT
DTSTART;TZID=Europe/Berlin:20191127T163000
DTEND;TZID=Europe/Berlin:20191127T200000
DTSTAMP:20260425T134604
CREATED:20191114T161403Z
LAST-MODIFIED:20191114T161403Z
UID:19934-1574872200-1574884800@www.karin-ritzer-yoga.at
SUMMARY:Yoga in der Schwangerschaft\, Wörgl\, Studio Be\, Albertpark 5\, 18.30 - 20.00
DESCRIPTION:
URL:https://www.karin-ritzer-yoga.at/kurstermin/yoga-in-der-schwangerschaft-woergl-studio-be-albertpark-5-18-30-20-00/2019-11-27/
END:VEVENT
END:VCALENDAR