BEGIN:VCALENDAR
VERSION:2.0
PRODID:-//Karin Ritzer Yoga - ECPv4.8.2//NONSGML v1.0//EN
CALSCALE:GREGORIAN
METHOD:PUBLISH
X-WR-CALNAME:Karin Ritzer Yoga
X-ORIGINAL-URL:https://www.karin-ritzer-yoga.at
X-WR-CALDESC:Veranstaltungen im Karin Ritzer Yoga
BEGIN:VEVENT
DTSTART;TZID=Europe/Berlin:20240319T190000
DTEND;TZID=Europe/Berlin:20240319T201500
DTSTAMP:20260423T090006
CREATED:20240108T094728Z
LAST-MODIFIED:20240129T092413Z
UID:22810-1710874800-1710879300@www.karin-ritzer-yoga.at
SUMMARY:Yoga in der Schwangerschaft\, Wörgl\, Studio Ich für Mich 19.00 - 20.15
DESCRIPTION:
URL:https://www.karin-ritzer-yoga.at/kurstermin/yoga-in-der-schwangerschaft-woergl-studio-ich-fuer-mich-19-00-20-15-lofererstrasse-3/2024-03-19/
END:VEVENT
END:VCALENDAR