BEGIN:VCALENDAR
VERSION:2.0
PRODID:-//Karin Ritzer Yoga - ECPv4.8.2//NONSGML v1.0//EN
CALSCALE:GREGORIAN
METHOD:PUBLISH
X-WR-CALNAME:Karin Ritzer Yoga
X-ORIGINAL-URL:https://www.karin-ritzer-yoga.at
X-WR-CALDESC:Veranstaltungen im Karin Ritzer Yoga
BEGIN:VEVENT
DTSTART;TZID=Europe/Berlin:20241118T171500
DTEND;TZID=Europe/Berlin:20241118T183000
DTSTAMP:20260421T132805
CREATED:20240710T064706Z
LAST-MODIFIED:20241028T091223Z
UID:23047-1731950100-1731954600@www.karin-ritzer-yoga.at
SUMMARY:Yoga in der Schwangerschaft\, EKIZ Ebbs\, Kaiserbergstrasse 7a\, 17.15 - 18.30
DESCRIPTION:
URL:https://www.karin-ritzer-yoga.at/kurstermin/yoga-in-der-schwnagerschaft-ekiz-ebbs-kaiserbergstrasse-7a-17-15-18-30-2024-10-28/
END:VEVENT
END:VCALENDAR