BEGIN:VCALENDAR
VERSION:2.0
PRODID:-//Karin Ritzer Yoga - ECPv4.8.2//NONSGML v1.0//EN
CALSCALE:GREGORIAN
METHOD:PUBLISH
X-WR-CALNAME:Karin Ritzer Yoga
X-ORIGINAL-URL:https://www.karin-ritzer-yoga.at
X-WR-CALDESC:Veranstaltungen im Karin Ritzer Yoga
BEGIN:VEVENT
DTSTART;TZID=Europe/Berlin:20260707T100000
DTEND;TZID=Europe/Berlin:20260707T110000
DTSTAMP:20260422T090644
CREATED:20260323T091451Z
LAST-MODIFIED:20260323T091451Z
UID:24103-1783418400-1783422000@www.karin-ritzer-yoga.at
SUMMARY:Yoga zur Rückbildung\, Kirchbichl\, Studio Ich für Mich\, 10.00 - 11.00
DESCRIPTION:
URL:https://www.karin-ritzer-yoga.at/kurstermin/yoga-zur-rueckbildung-kirchbichl-studio-ich-fuer-mich-10-00-11-00/2026-07-07/
END:VEVENT
END:VCALENDAR