BEGIN:VCALENDAR
VERSION:2.0
PRODID:-//Karin Ritzer Yoga - ECPv4.8.2//NONSGML v1.0//EN
CALSCALE:GREGORIAN
METHOD:PUBLISH
X-WR-CALNAME:Karin Ritzer Yoga
X-ORIGINAL-URL:https://www.karin-ritzer-yoga.at
X-WR-CALDESC:Veranstaltungen im Karin Ritzer Yoga
BEGIN:VEVENT
DTSTART;TZID=Europe/Berlin:20211116T173000
DTEND;TZID=Europe/Berlin:20211116T184500
DTSTAMP:20260422T103059
CREATED:20211030T133512Z
LAST-MODIFIED:20211116T174929Z
UID:21329-1637083800-1637088300@www.karin-ritzer-yoga.at
SUMMARY:Heute ist kein Yoga
DESCRIPTION:
URL:https://www.karin-ritzer-yoga.at/kurstermin/yoga-in-der-schwangerschaft-kufstein-logistikpark-untere-sparchen-16-17-30-18-45-2021-11-16/
END:VEVENT
BEGIN:VEVENT
DTSTART;TZID=Europe/Berlin:20211116T190000
DTEND;TZID=Europe/Berlin:20211116T203000
DTSTAMP:20260422T103059
CREATED:20210627T090022Z
LAST-MODIFIED:20211116T174844Z
UID:21197-1637089200-1637094600@www.karin-ritzer-yoga.at
SUMMARY:Heute ist kein Yoga
DESCRIPTION:
URL:https://www.karin-ritzer-yoga.at/kurstermin/kundaliniyoga-kufstein-untere-sparchen-16-19-00-20-30-2-2021-11-16/
END:VEVENT
END:VCALENDAR