BEGIN:VCALENDAR
VERSION:2.0
PRODID:-//Karin Ritzer Yoga - ECPv4.8.2//NONSGML v1.0//EN
CALSCALE:GREGORIAN
METHOD:PUBLISH
X-WR-CALNAME:Karin Ritzer Yoga
X-ORIGINAL-URL:https://www.karin-ritzer-yoga.at
X-WR-CALDESC:Veranstaltungen im Karin Ritzer Yoga
BEGIN:VEVENT
DTSTART;TZID=Europe/Berlin:20220215T173000
DTEND;TZID=Europe/Berlin:20220215T184500
DTSTAMP:20260424T134813
CREATED:20220208T090315Z
LAST-MODIFIED:20220208T090315Z
UID:21552-1644946200-1644950700@www.karin-ritzer-yoga.at
SUMMARY:Yoga in der Schwangerschaft Kufstein\, Logistikpark Untere Sparchen 16\, 17.30 - 18.45
DESCRIPTION:
URL:https://www.karin-ritzer-yoga.at/kurstermin/yoga-in-der-schwangerschaft-kufstein-logistikpark-untere-sparchen-16-17-30-18-45-2/2022-02-15/
END:VEVENT
BEGIN:VEVENT
DTSTART;TZID=Europe/Berlin:20220215T190000
DTEND;TZID=Europe/Berlin:20220215T203000
DTSTAMP:20260424T134813
CREATED:20220104T182924Z
LAST-MODIFIED:20220104T182924Z
UID:21474-1644951600-1644957000@www.karin-ritzer-yoga.at
SUMMARY:Kundaliniyoga Kufstein\, Logistikpark Untere Sparchen 16\, 19.00 - 20.30
DESCRIPTION:
URL:https://www.karin-ritzer-yoga.at/kurstermin/kundaliniyoga-kufstein-logistikpark-untere-sparchen-16-19-00-20-30/2022-02-15/
END:VEVENT
END:VCALENDAR