BEGIN:VCALENDAR
VERSION:2.0
PRODID:-//Karin Ritzer Yoga - ECPv4.8.2//NONSGML v1.0//EN
CALSCALE:GREGORIAN
METHOD:PUBLISH
X-WR-CALNAME:Karin Ritzer Yoga
X-ORIGINAL-URL:https://www.karin-ritzer-yoga.at
X-WR-CALDESC:Veranstaltungen im Karin Ritzer Yoga
BEGIN:VEVENT
DTSTART;TZID=Europe/Berlin:20220316T180000
DTEND;TZID=Europe/Berlin:20220316T191500
DTSTAMP:20260424T153631
CREATED:20220213T105520Z
LAST-MODIFIED:20220213T105520Z
UID:21612-1647453600-1647458100@www.karin-ritzer-yoga.at
SUMMARY:Yoga in der Schwangerschaft\, Wörgl Volkshaus\, 18.00 - 19.15
DESCRIPTION:
URL:https://www.karin-ritzer-yoga.at/kurstermin/yoga-in-der-schwangerschaft-woergl-volkshaus-18-00-19-15/2022-03-16/
END:VEVENT
END:VCALENDAR