BEGIN:VCALENDAR
VERSION:2.0
PRODID:-//Karin Ritzer Yoga - ECPv4.8.2//NONSGML v1.0//EN
CALSCALE:GREGORIAN
METHOD:PUBLISH
X-WR-CALNAME:Karin Ritzer Yoga
X-ORIGINAL-URL:https://www.karin-ritzer-yoga.at
X-WR-CALDESC:Veranstaltungen im Karin Ritzer Yoga
BEGIN:VEVENT
DTSTART;TZID=Europe/Berlin:20220322T100000
DTEND;TZID=Europe/Berlin:20220322T110000
DTSTAMP:20260424T153846
CREATED:20220213T110529Z
LAST-MODIFIED:20220213T110529Z
UID:21633-1647943200-1647946800@www.karin-ritzer-yoga.at
SUMMARY:Rückbildungsyoga\, Wörgl Volkshaus\, 10.00 - 11.00
DESCRIPTION:
URL:https://www.karin-ritzer-yoga.at/kurstermin/rueckbildungsyoga-woergl-volkshaus-10-00-11-00/2022-03-22/
END:VEVENT
BEGIN:VEVENT
DTSTART;TZID=Europe/Berlin:20220322T173000
DTEND;TZID=Europe/Berlin:20220322T184500
DTSTAMP:20260424T153846
CREATED:20220208T093148Z
LAST-MODIFIED:20220208T093148Z
UID:21565-1647970200-1647974700@www.karin-ritzer-yoga.at
SUMMARY:Yoga in der Schwangerschaft Kufstein\, Logistikpark Untere Sparchen 16\, 17.30 - 18.45
DESCRIPTION:
URL:https://www.karin-ritzer-yoga.at/kurstermin/yoga-in-der-schwangerschaft-kufstein-logistikpark-untere-sparchen-16-17-30-18-45-3/2022-03-22/
END:VEVENT
BEGIN:VEVENT
DTSTART;TZID=Europe/Berlin:20220322T190000
DTEND;TZID=Europe/Berlin:20220322T203000
DTSTAMP:20260424T153846
CREATED:20220208T093328Z
LAST-MODIFIED:20220208T093328Z
UID:21572-1647975600-1647981000@www.karin-ritzer-yoga.at
SUMMARY:Kundaliniyoga Kufstein\, Logistikpark Untere Sparchen 16\, 19.00 - 20.30
DESCRIPTION:
URL:https://www.karin-ritzer-yoga.at/kurstermin/kundaliniyoga-kufstein-logistikpark-untere-sparchen-16-19-00-20-30-2/2022-03-22/
END:VEVENT
END:VCALENDAR