BEGIN:VCALENDAR
VERSION:2.0
PRODID:-//Karin Ritzer Yoga - ECPv4.8.2//NONSGML v1.0//EN
CALSCALE:GREGORIAN
METHOD:PUBLISH
X-WR-CALNAME:Karin Ritzer Yoga
X-ORIGINAL-URL:https://www.karin-ritzer-yoga.at
X-WR-CALDESC:Veranstaltungen im Karin Ritzer Yoga
BEGIN:VEVENT
DTSTART;TZID=Europe/Berlin:20230530T100000
DTEND;TZID=Europe/Berlin:20230530T110000
DTSTAMP:20260422T090029
CREATED:20230403T095217Z
LAST-MODIFIED:20230412T081549Z
UID:22495-1685440800-1685444400@www.karin-ritzer-yoga.at
SUMMARY:Rückbidlungsyoga Kirchbichl\, Studio Ich für Mich\, Lofererstrasse 3\, 10.00 - 11.00
DESCRIPTION:
URL:https://www.karin-ritzer-yoga.at/kurstermin/rueckbidlungsyoga-kirchbichl-studio-ich-fuer-mich-lofererstrasse-3-2023-05-30/
END:VEVENT
BEGIN:VEVENT
DTSTART;TZID=Europe/Berlin:20230530T190000
DTEND;TZID=Europe/Berlin:20230530T203000
DTSTAMP:20260422T090029
CREATED:20230111T090239Z
LAST-MODIFIED:20230111T090239Z
UID:22357-1685473200-1685478600@www.karin-ritzer-yoga.at
SUMMARY:Kundaliniyoga Kufstein\, Untere Sparchen 16\, 19.00 - 20.30
DESCRIPTION:
URL:https://www.karin-ritzer-yoga.at/kurstermin/kundaliniyoga-kufstein-untere-sparchen-16-19-00-20-30-4/2023-05-30/
END:VEVENT
END:VCALENDAR