BEGIN:VCALENDAR
VERSION:2.0
PRODID:-//Karin Ritzer Yoga - ECPv4.8.2//NONSGML v1.0//EN
CALSCALE:GREGORIAN
METHOD:PUBLISH
X-WR-CALNAME:Karin Ritzer Yoga
X-ORIGINAL-URL:https://www.karin-ritzer-yoga.at
X-WR-CALDESC:Veranstaltungen im Karin Ritzer Yoga
BEGIN:VEVENT
DTSTART;TZID=Europe/Berlin:20241008T100000
DTEND;TZID=Europe/Berlin:20241008T110000
DTSTAMP:20260424T090557
CREATED:20240710T064850Z
LAST-MODIFIED:20240909T155605Z
UID:23052-1728381600-1728385200@www.karin-ritzer-yoga.at
SUMMARY:Rückbildungsyoga\, Studio Ich für Mich\, Lofererstrasse 3\, 10.00 - 11.00
DESCRIPTION:
URL:https://www.karin-ritzer-yoga.at/kurstermin/rueckbildungsyoga-studio-ich-fuer-mich-lofererstrasse-3-10-00-11-00/2024-10-08/
END:VEVENT
BEGIN:VEVENT
DTSTART;TZID=Europe/Berlin:20241008T173000
DTEND;TZID=Europe/Berlin:20241008T184500
DTSTAMP:20260424T090557
CREATED:20240710T064539Z
LAST-MODIFIED:20240909T155459Z
UID:23036-1728408600-1728413100@www.karin-ritzer-yoga.at
SUMMARY:Yoga in der Schwangerschaft\, Studio Ich für Mich\, Lofererstrasse 3\, 17.30 - 18.45
DESCRIPTION:
URL:https://www.karin-ritzer-yoga.at/kurstermin/yoga-in-der-schwnagerschaft-studio-ich-fuer-mich-lofererstrasse-3-17-30-18-45/2024-10-08/
END:VEVENT
END:VCALENDAR